BEGIN:VCALENDAR
VERSION:2.0
PRODID:GIGPRESS 2.0 WORDPRESS PLUGIN
CALSCALE:GREGORIAN
X-WR-TIMEZONE:Etc/GMT
METHOD:PUBLISH
BEGIN:VTIMEZONE
TZID:GMT
BEGIN:STANDARD
DTSTART:20071028T010000
TZOFFSETTO:+0000
TZOFFSETFROM:+0000
END:STANDARD
END:VTIMEZONE
BEGIN:VEVENT
SUMMARY:Xtra Ticket at Ft. Tuthill Fairgrounds
DESCRIPTION:Tour: Grateful Fest. Notes: Use discount code "GF26 XTRA" for tickets! All Ages
LOCATION:Ft. Tuthill Fairgrounds\, Fort Tuthill-Palmer Bypass\, Flagstaff\, US
UID:20260522T100000Z-152-azlumpy@gmail.com
URL:https://xtraticket.com/7th-grateful-festival/
DTSTART;VALUE=DATE-TIME;TZID=GMT:20260522T100000Z
DTEND;VALUE=DATE-TIME;TZID=GMT:20260526T100000Z
DTSTAMP:20260423T021445Z
END:VEVENT
END:VCALENDAR